BEGIN:VCALENDAR
VERSION:2.0
PRODID:-//SPARC - ECPv6.15.20//NONSGML v1.0//EN
CALSCALE:GREGORIAN
METHOD:PUBLISH
X-ORIGINAL-URL:https://www.sparc-club.org
X-WR-CALDESC:Events for SPARC
REFRESH-INTERVAL;VALUE=DURATION:PT1H
X-Robots-Tag:noindex
X-PUBLISHED-TTL:PT1H
BEGIN:VTIMEZONE
TZID:America/New_York
BEGIN:DAYLIGHT
TZOFFSETFROM:-0500
TZOFFSETTO:-0400
TZNAME:EDT
DTSTART:20180311T070000
END:DAYLIGHT
BEGIN:STANDARD
TZOFFSETFROM:-0400
TZOFFSETTO:-0500
TZNAME:EST
DTSTART:20181104T060000
END:STANDARD
BEGIN:DAYLIGHT
TZOFFSETFROM:-0500
TZOFFSETTO:-0400
TZNAME:EDT
DTSTART:20190310T070000
END:DAYLIGHT
BEGIN:STANDARD
TZOFFSETFROM:-0400
TZOFFSETTO:-0500
TZNAME:EST
DTSTART:20191103T060000
END:STANDARD
BEGIN:DAYLIGHT
TZOFFSETFROM:-0500
TZOFFSETTO:-0400
TZNAME:EDT
DTSTART:20200308T070000
END:DAYLIGHT
BEGIN:STANDARD
TZOFFSETFROM:-0400
TZOFFSETTO:-0500
TZNAME:EST
DTSTART:20201101T060000
END:STANDARD
BEGIN:DAYLIGHT
TZOFFSETFROM:-0500
TZOFFSETTO:-0400
TZNAME:EDT
DTSTART:20210314T070000
END:DAYLIGHT
BEGIN:STANDARD
TZOFFSETFROM:-0400
TZOFFSETTO:-0500
TZNAME:EST
DTSTART:20211107T060000
END:STANDARD
END:VTIMEZONE
BEGIN:VEVENT
DTSTART;TZID=America/New_York:20200915T183000
DTEND;TZID=America/New_York:20200915T183000
DTSTAMP:20260422T034651
CREATED:20191006T173235Z
LAST-MODIFIED:20191006T173235Z
UID:22609-1600194600-1600194600@www.sparc-club.org
SUMMARY:VE Testing
DESCRIPTION:Related Images:
URL:https://www.sparc-club.org/event/ve-testing-23/
LOCATION:Club Station\, 6699 90th Avenue N.\, Pinellas Park\, FL\, 33782\, United States
END:VEVENT
BEGIN:VEVENT
DTSTART;TZID=America/New_York:20200904T193000
DTEND;TZID=America/New_York:20200904T210000
DTSTAMP:20260422T034651
CREATED:20191006T173237Z
LAST-MODIFIED:20191006T173237Z
UID:22623-1599247800-1599253200@www.sparc-club.org
SUMMARY:SPARC Monthly Meeting
DESCRIPTION:Related Images:
URL:https://www.sparc-club.org/event/sparc-monthly-meeting-16/
LOCATION:Fifth Avenue Baptist Church\, 4901 5th Ave. N.\, St. Petersburg\, FL\, 33710\, United States
END:VEVENT
BEGIN:VEVENT
DTSTART;TZID=America/New_York:20200818T183000
DTEND;TZID=America/New_York:20200818T183000
DTSTAMP:20260422T034651
CREATED:20191006T173235Z
LAST-MODIFIED:20191006T173235Z
UID:22608-1597775400-1597775400@www.sparc-club.org
SUMMARY:VE Testing
DESCRIPTION:Related Images:
URL:https://www.sparc-club.org/event/ve-testing-22/
LOCATION:Club Station\, 6699 90th Avenue N.\, Pinellas Park\, FL\, 33782\, United States
END:VEVENT
BEGIN:VEVENT
DTSTART;TZID=America/New_York:20200807T193000
DTEND;TZID=America/New_York:20200807T210000
DTSTAMP:20260422T034651
CREATED:20191006T173237Z
LAST-MODIFIED:20191006T173237Z
UID:22622-1596828600-1596834000@www.sparc-club.org
SUMMARY:SPARC Monthly Meeting
DESCRIPTION:Related Images:
URL:https://www.sparc-club.org/event/sparc-monthly-meeting-15/
LOCATION:Fifth Avenue Baptist Church\, 4901 5th Ave. N.\, St. Petersburg\, FL\, 33710\, United States
END:VEVENT
BEGIN:VEVENT
DTSTART;TZID=America/New_York:20200721T183000
DTEND;TZID=America/New_York:20200721T183000
DTSTAMP:20260422T034651
CREATED:20191006T173235Z
LAST-MODIFIED:20191006T173235Z
UID:22607-1595356200-1595356200@www.sparc-club.org
SUMMARY:VE Testing
DESCRIPTION:Related Images:
URL:https://www.sparc-club.org/event/ve-testing-21/
LOCATION:Club Station\, 6699 90th Avenue N.\, Pinellas Park\, FL\, 33782\, United States
END:VEVENT
BEGIN:VEVENT
DTSTART;TZID=America/New_York:20200703T193000
DTEND;TZID=America/New_York:20200703T210000
DTSTAMP:20260422T034651
CREATED:20191006T173237Z
LAST-MODIFIED:20191006T173237Z
UID:22621-1593804600-1593810000@www.sparc-club.org
SUMMARY:SPARC Monthly Meeting
DESCRIPTION:Related Images:
URL:https://www.sparc-club.org/event/sparc-monthly-meeting-14/
LOCATION:Fifth Avenue Baptist Church\, 4901 5th Ave. N.\, St. Petersburg\, FL\, 33710\, United States
END:VEVENT
BEGIN:VEVENT
DTSTART;TZID=America/New_York:20200605T193000
DTEND;TZID=America/New_York:20200605T210000
DTSTAMP:20260422T034651
CREATED:20191006T173237Z
LAST-MODIFIED:20200529T010744Z
UID:22620-1591385400-1591390800@www.sparc-club.org
SUMMARY:SPARC Monthly Meeting via Zoom
DESCRIPTION:Related Images:
URL:https://www.sparc-club.org/event/sparc-monthly-meeting-13/
LOCATION:via Zoom\, FL\, United States
END:VEVENT
BEGIN:VEVENT
DTSTART;TZID=America/New_York:20200603T190000
DTEND;TZID=America/New_York:20200603T200000
DTSTAMP:20260422T034651
CREATED:20200529T011024Z
LAST-MODIFIED:20200529T011024Z
UID:23755-1591210800-1591214400@www.sparc-club.org
SUMMARY:SPARC Meeting Setup Test
DESCRIPTION:This is a Zoom meeting to allow members and guests to test out their Zoom setup. Feel free to connect your camera is you have one and join the fun. Then come back on Friday June 5th at 7:30 for the regular meeting again on Zoom. \nRelated Images:
URL:https://www.sparc-club.org/event/sparc-meeting-setup-test/
LOCATION:via Zoom\, FL\, United States
END:VEVENT
BEGIN:VEVENT
DTSTART;TZID=America/New_York:20200501T193000
DTEND;TZID=America/New_York:20200501T210000
DTSTAMP:20260422T034651
CREATED:20191006T173237Z
LAST-MODIFIED:20200413T223843Z
UID:22619-1588361400-1588366800@www.sparc-club.org
SUMMARY:SPARC Monthly Meeting (virtual)
DESCRIPTION:Related Images:
URL:https://www.sparc-club.org/event/sparc-monthly-meeting-12/
LOCATION:via Zoom\, FL\, United States
END:VEVENT
BEGIN:VEVENT
DTSTART;TZID=America/New_York:20200403T193000
DTEND;TZID=America/New_York:20200403T210000
DTSTAMP:20260422T034651
CREATED:20191006T173237Z
LAST-MODIFIED:20200331T042438Z
UID:22618-1585942200-1585947600@www.sparc-club.org
SUMMARY:SPARC Monthly Meeting (Repeater Only)
DESCRIPTION:Related Images:
URL:https://www.sparc-club.org/event/sparc-monthly-meeting-11/
LOCATION:via Zoom\, FL\, United States
END:VEVENT
BEGIN:VEVENT
DTSTART;TZID=America/New_York:20200314T080000
DTEND;TZID=America/New_York:20200314T190000
DTSTAMP:20260422T034651
CREATED:20200117T145612Z
LAST-MODIFIED:20200127T155255Z
UID:23013-1584172800-1584212400@www.sparc-club.org
SUMMARY:Radio Clubs in the Park
DESCRIPTION:On Saturday March 14th\, 2020\, SPARC is hosting a gathering for club members (and our north county friends) to setup in Lake Seminole Park\, Shelter number 6. This is an informal gathering so plan on bringing your own stuff to this one. Below are the details: \n \n[Picture from Google Maps] Shelter #6 is close to the parking lot and rest rooms with lots of room for antennas and a nice view of the lake to boot. \nRelated Images:
URL:https://www.sparc-club.org/event/radio-clubs-in-the-park/
LOCATION:Lake Seminole Park\, 10015 Park Boulevard\, Seminole\, 33777-3810\, United States
ATTACH;FMTTYPE=image/png:https://www.sparc-club.org/wp-content/uploads/2020/01/Screen-Shot-2020-01-16-at-11.10.03-PM.png
ORGANIZER;CN="St. Petersburg Amateur Radio Club":MAILTO:info@sparc-club.org
END:VEVENT
BEGIN:VEVENT
DTSTART;TZID=America/New_York:20200306T193000
DTEND;TZID=America/New_York:20200306T210000
DTSTAMP:20260422T034651
CREATED:20191006T173236Z
LAST-MODIFIED:20191006T173236Z
UID:22617-1583523000-1583528400@www.sparc-club.org
SUMMARY:SPARC Monthly Meeting
DESCRIPTION:Related Images:
URL:https://www.sparc-club.org/event/sparc-monthly-meeting-10/
LOCATION:Fifth Avenue Baptist Church\, 4901 5th Ave. N.\, St. Petersburg\, FL\, 33710\, United States
END:VEVENT
BEGIN:VEVENT
DTSTART;TZID=America/New_York:20200218T183000
DTEND;TZID=America/New_York:20200218T183000
DTSTAMP:20260422T034651
CREATED:20191006T173234Z
LAST-MODIFIED:20191006T173234Z
UID:22602-1582050600-1582050600@www.sparc-club.org
SUMMARY:VE Testing
DESCRIPTION:Related Images:
URL:https://www.sparc-club.org/event/ve-testing-16/
LOCATION:Club Station\, 6699 90th Avenue N.\, Pinellas Park\, FL\, 33782\, United States
END:VEVENT
BEGIN:VEVENT
DTSTART;TZID=America/New_York:20200209T150000
DTEND;TZID=America/New_York:20200209T180000
DTSTAMP:20260422T034651
CREATED:20191231T175309Z
LAST-MODIFIED:20191231T175309Z
UID:22939-1581260400-1581271200@www.sparc-club.org
SUMMARY:After Holiday Party
DESCRIPTION:The annual after-holiday party. Plenty of room so just stop by… \nRelated Images:
URL:https://www.sparc-club.org/event/after-holiday-party/
LOCATION:Brooklyn Pizza Company\, 10785 Park Blvd.\, Seminole\, FL\, United States
END:VEVENT
BEGIN:VEVENT
DTSTART;TZID=America/New_York:20200207T193000
DTEND;TZID=America/New_York:20200207T210000
DTSTAMP:20260422T034651
CREATED:20191006T173236Z
LAST-MODIFIED:20191006T173236Z
UID:22616-1581103800-1581109200@www.sparc-club.org
SUMMARY:SPARC Monthly Meeting
DESCRIPTION:Related Images:
URL:https://www.sparc-club.org/event/sparc-monthly-meeting-9/
LOCATION:Fifth Avenue Baptist Church\, 4901 5th Ave. N.\, St. Petersburg\, FL\, 33710\, United States
END:VEVENT
BEGIN:VEVENT
DTSTART;TZID=America/New_York:20200125T130000
DTEND;TZID=America/New_York:20200126T130000
DTSTAMP:20260422T034651
CREATED:20191006T173238Z
LAST-MODIFIED:20191006T173238Z
UID:22627-1579957200-1580043600@www.sparc-club.org
SUMMARY:Winter Field Day
DESCRIPTION:Related Images:
URL:https://www.sparc-club.org/event/winter-field-day-2/
LOCATION:Clearwater Fire Training Center\, 1716 N Belcher Rd\, Clearwater\, FL\, 33765\, United States
END:VEVENT
BEGIN:VEVENT
DTSTART;TZID=America/New_York:20200125T080000
DTEND;TZID=America/New_York:20200125T130000
DTSTAMP:20260422T034651
CREATED:20191006T173238Z
LAST-MODIFIED:20191006T173238Z
UID:22628-1579939200-1579957200@www.sparc-club.org
SUMMARY:Winter Field Day Setup
DESCRIPTION:Related Images:
URL:https://www.sparc-club.org/event/winter-field-day-setup-2/
LOCATION:Clearwater Fire Training Center\, 1716 N Belcher Rd\, Clearwater\, FL\, 33765\, United States
END:VEVENT
BEGIN:VEVENT
DTSTART;TZID=America/New_York:20200121T183000
DTEND;TZID=America/New_York:20200121T183000
DTSTAMP:20260422T034651
CREATED:20191006T173234Z
LAST-MODIFIED:20191006T173234Z
UID:22601-1579631400-1579631400@www.sparc-club.org
SUMMARY:VE Testing
DESCRIPTION:Related Images:
URL:https://www.sparc-club.org/event/ve-testing-15/
LOCATION:Club Station\, 6699 90th Avenue N.\, Pinellas Park\, FL\, 33782\, United States
END:VEVENT
BEGIN:VEVENT
DTSTART;TZID=America/New_York:20200104T130000
DTEND;TZID=America/New_York:20200105T190000
DTSTAMP:20260422T034651
CREATED:20181213T191845Z
LAST-MODIFIED:20191214T002541Z
UID:20918-1578142800-1578250800@www.sparc-club.org
SUMMARY:2020 ARRL RTTY Roundup
DESCRIPTION:https://www.contestcalendar.com/contestdetails.php?ref=217 \nRelated Images:
URL:https://www.sparc-club.org/event/2020-arrl-rtty-roundup/
LOCATION:Club Station\, 6699 90th Avenue N.\, Pinellas Park\, FL\, 33782\, United States
CATEGORIES:Contests
ORGANIZER;CN="St. Petersburg Amateur Radio Club":MAILTO:info@sparc-club.org
END:VEVENT
BEGIN:VEVENT
DTSTART;TZID=America/New_York:20200103T193000
DTEND;TZID=America/New_York:20200103T210000
DTSTAMP:20260422T034651
CREATED:20191006T173236Z
LAST-MODIFIED:20191006T173236Z
UID:22615-1578079800-1578085200@www.sparc-club.org
SUMMARY:SPARC Monthly Meeting
DESCRIPTION:Related Images:
URL:https://www.sparc-club.org/event/sparc-monthly-meeting-8/
LOCATION:Fifth Avenue Baptist Church\, 4901 5th Ave. N.\, St. Petersburg\, FL\, 33710\, United States
END:VEVENT
BEGIN:VEVENT
DTSTART;TZID=America/New_York:20191217T183000
DTEND;TZID=America/New_York:20191217T183000
DTSTAMP:20260422T034651
CREATED:20191006T173233Z
LAST-MODIFIED:20191006T173233Z
UID:22600-1576607400-1576607400@www.sparc-club.org
SUMMARY:VE Testing
DESCRIPTION:Related Images:
URL:https://www.sparc-club.org/event/ve-testing-14/
LOCATION:Club Station\, 6699 90th Avenue N.\, Pinellas Park\, FL\, 33782\, United States
END:VEVENT
BEGIN:VEVENT
DTSTART;TZID=America/New_York:20191213T080000
DTEND;TZID=America/New_York:20191214T170000
DTSTAMP:20260422T034651
CREATED:20191006T173238Z
LAST-MODIFIED:20191006T173238Z
UID:22630-1576224000-1576342800@www.sparc-club.org
SUMMARY:Tampa Bay Hamfest
DESCRIPTION:Related Images:
URL:https://www.sparc-club.org/event/tampa-bay-hamfest-3/
LOCATION:Strawberry Festival Grounds\, 303 N Lemon St\, Plant City\, FL\, 33563\, United States
END:VEVENT
BEGIN:VEVENT
DTSTART;TZID=America/New_York:20191206T193000
DTEND;TZID=America/New_York:20191206T210000
DTSTAMP:20260422T034651
CREATED:20191006T173236Z
LAST-MODIFIED:20191006T173236Z
UID:22614-1575660600-1575666000@www.sparc-club.org
SUMMARY:SPARC Monthly Meeting
DESCRIPTION:Related Images:
URL:https://www.sparc-club.org/event/sparc-monthly-meeting-7/
LOCATION:Fifth Avenue Baptist Church\, 4901 5th Ave. N.\, St. Petersburg\, FL\, 33710\, United States
END:VEVENT
BEGIN:VEVENT
DTSTART;TZID=America/New_York:20191130T140000
DTEND;TZID=America/New_York:20191130T150000
DTSTAMP:20260422T034651
CREATED:20181126T203409Z
LAST-MODIFIED:20181126T203409Z
UID:20853-1575122400-1575126000@www.sparc-club.org
SUMMARY:Board Meeting
DESCRIPTION:Related Images:
URL:https://www.sparc-club.org/event/board-meeting-4/
LOCATION:Club Station\, 6699 90th Avenue N.\, Pinellas Park\, FL\, 33782\, United States
CATEGORIES:Meetings
ORGANIZER;CN="St. Petersburg Amateur Radio Club":MAILTO:info@sparc-club.org
END:VEVENT
BEGIN:VEVENT
DTSTART;TZID=America/New_York:20191119T183000
DTEND;TZID=America/New_York:20191119T183000
DTSTAMP:20260422T034651
CREATED:20191006T173233Z
LAST-MODIFIED:20191006T173233Z
UID:22599-1574188200-1574188200@www.sparc-club.org
SUMMARY:VE Testing
DESCRIPTION:Related Images:
URL:https://www.sparc-club.org/event/ve-testing-13/
LOCATION:Club Station\, 6699 90th Avenue N.\, Pinellas Park\, FL\, 33782\, United States
END:VEVENT
BEGIN:VEVENT
DTSTART;TZID=America/New_York:20191109T080000
DTEND;TZID=America/New_York:20191109T120000
DTSTAMP:20260422T034651
CREATED:20191006T173238Z
LAST-MODIFIED:20191006T173238Z
UID:22629-1573286400-1573300800@www.sparc-club.org
SUMMARY:SPARCFest
DESCRIPTION:Related Images:
URL:https://www.sparc-club.org/event/sparcfest-2/
LOCATION:Freedom Lake Park\, 9990 46th St.\, Pinellas Park\, FL\, United States
END:VEVENT
BEGIN:VEVENT
DTSTART;TZID=America/New_York:20191101T193000
DTEND;TZID=America/New_York:20191101T210000
DTSTAMP:20260422T034651
CREATED:20191006T173236Z
LAST-MODIFIED:20191006T173236Z
UID:22613-1572636600-1572642000@www.sparc-club.org
SUMMARY:SPARC Monthly Meeting
DESCRIPTION:Related Images:
URL:https://www.sparc-club.org/event/sparc-monthly-meeting-6/
LOCATION:Fifth Avenue Baptist Church\, 4901 5th Ave. N.\, St. Petersburg\, FL\, 33710\, United States
END:VEVENT
BEGIN:VEVENT
DTSTART;TZID=America/New_York:20191019T100000
DTEND;TZID=America/New_York:20191019T160000
DTSTAMP:20260422T034651
CREATED:20191006T170752Z
LAST-MODIFIED:20191006T170752Z
UID:22593-1571479200-1571500800@www.sparc-club.org
SUMMARY:SPARC at the St. Petersburg Science Festival
DESCRIPTION:After a year absence due to station relocation\, SPARC will again be exhibiting at the St. Petersburg Science Festival on October 19th. This event is designed to provide children hands-on access to the wide world of STEAM (Science\, Technology\, Engineering\, Art and Math). \nWe need your help. We will be demonstrating “Worldwide Communications over Amateur Radio\,” and will have an HF station running. We need CW and phone operators to man the station. We also need folks that can explain the excitement of our hobby to the public. If you are interested in being part of SPARC’s ham radio demonstration team\, please contact Bob\, N2ESP by clicking here. \nIf you like to chat with people\, (after all we are communicators) this a great place for eyeball QSOs with potential hams. It’s also a lot of fun to watch the kids quickly associate the dits and dahs of CW with the alphabet and subsequently tap out their name on one of the code practice oscillators. Hopefully we can plant the ham radio bug in one or two visitors and will see them on the air in a few years. \nRelated Images:
URL:https://www.sparc-club.org/event/sparc-at-the-st-petersburg-science-festival/
LOCATION:USF – St. Petersburg\, 140 7th Ave S\, St. Petersburg\, FL\, 33701\, United States
END:VEVENT
BEGIN:VEVENT
DTSTART;TZID=America/New_York:20191015T183000
DTEND;TZID=America/New_York:20191015T183000
DTSTAMP:20260422T034651
CREATED:20191006T173233Z
LAST-MODIFIED:20191006T173233Z
UID:22598-1571164200-1571164200@www.sparc-club.org
SUMMARY:VE Testing
DESCRIPTION:Related Images:
URL:https://www.sparc-club.org/event/ve-testing-12/
LOCATION:Club Station\, 6699 90th Avenue N.\, Pinellas Park\, FL\, 33782\, United States
END:VEVENT
BEGIN:VEVENT
DTSTART;TZID=America/New_York:20191013T040000
DTEND;TZID=America/New_York:20191013T120000
DTSTAMP:20260422T034651
CREATED:20190922T165648Z
LAST-MODIFIED:20190922T165648Z
UID:22510-1570939200-1570968000@www.sparc-club.org
SUMMARY:Makrothen RTTY Contest Part III
DESCRIPTION:Related Images:
URL:https://www.sparc-club.org/event/makrothen-rtty-contest-part-iii/
LOCATION:Club Station\, 6699 90th Avenue N.\, Pinellas Park\, FL\, 33782\, United States
ORGANIZER;CN="St. Petersburg Amateur Radio Club":MAILTO:info@sparc-club.org
END:VEVENT
END:VCALENDAR