BEGIN:VCALENDAR
VERSION:2.0
PRODID:-//SPARC - ECPv6.15.20//NONSGML v1.0//EN
CALSCALE:GREGORIAN
METHOD:PUBLISH
X-WR-CALNAME:SPARC
X-ORIGINAL-URL:https://www.sparc-club.org
X-WR-CALDESC:Events for SPARC
REFRESH-INTERVAL;VALUE=DURATION:PT1H
X-Robots-Tag:noindex
X-PUBLISHED-TTL:PT1H
BEGIN:VTIMEZONE
TZID:America/New_York
BEGIN:DAYLIGHT
TZOFFSETFROM:-0500
TZOFFSETTO:-0400
TZNAME:EDT
DTSTART:20190310T070000
END:DAYLIGHT
BEGIN:STANDARD
TZOFFSETFROM:-0400
TZOFFSETTO:-0500
TZNAME:EST
DTSTART:20191103T060000
END:STANDARD
BEGIN:DAYLIGHT
TZOFFSETFROM:-0500
TZOFFSETTO:-0400
TZNAME:EDT
DTSTART:20200308T070000
END:DAYLIGHT
BEGIN:STANDARD
TZOFFSETFROM:-0400
TZOFFSETTO:-0500
TZNAME:EST
DTSTART:20201101T060000
END:STANDARD
BEGIN:DAYLIGHT
TZOFFSETFROM:-0500
TZOFFSETTO:-0400
TZNAME:EDT
DTSTART:20210314T070000
END:DAYLIGHT
BEGIN:STANDARD
TZOFFSETFROM:-0400
TZOFFSETTO:-0500
TZNAME:EST
DTSTART:20211107T060000
END:STANDARD
BEGIN:DAYLIGHT
TZOFFSETFROM:-0500
TZOFFSETTO:-0400
TZNAME:EDT
DTSTART:20220313T070000
END:DAYLIGHT
BEGIN:STANDARD
TZOFFSETFROM:-0400
TZOFFSETTO:-0500
TZNAME:EST
DTSTART:20221106T060000
END:STANDARD
END:VTIMEZONE
BEGIN:VEVENT
DTSTART;TZID=America/New_York:20210806T193000
DTEND;TZID=America/New_York:20210806T210000
DTSTAMP:20260421T220307
CREATED:20210411T022257Z
LAST-MODIFIED:20210411T022257Z
UID:29299-1628278200-1628283600@www.sparc-club.org
SUMMARY:SPARC Monthly Meeting
DESCRIPTION:Related Images:
URL:https://www.sparc-club.org/event/sparc-monthly-meeting-24/
LOCATION:Fifth Avenue Baptist Church\, 4901 5th Ave. N.\, St. Petersburg\, FL\, 33710\, United States
END:VEVENT
BEGIN:VEVENT
DTSTART;TZID=America/New_York:20210720T183000
DTEND;TZID=America/New_York:20210720T183000
DTSTAMP:20260421T220307
CREATED:20210411T022240Z
LAST-MODIFIED:20210411T022240Z
UID:29291-1626805800-1626805800@www.sparc-club.org
SUMMARY:VE Testing
DESCRIPTION:Related Images:
URL:https://www.sparc-club.org/event/ve-testing-30/
LOCATION:Club Station\, 6699 90th Avenue N.\, Pinellas Park\, FL\, 33782\, United States
END:VEVENT
BEGIN:VEVENT
DTSTART;TZID=America/New_York:20210702T193000
DTEND;TZID=America/New_York:20210702T210000
DTSTAMP:20260421T220307
CREATED:20210411T022257Z
LAST-MODIFIED:20210411T022257Z
UID:29298-1625254200-1625259600@www.sparc-club.org
SUMMARY:SPARC Monthly Meeting
DESCRIPTION:Related Images:
URL:https://www.sparc-club.org/event/sparc-monthly-meeting-23/
LOCATION:Fifth Avenue Baptist Church\, 4901 5th Ave. N.\, St. Petersburg\, FL\, 33710\, United States
END:VEVENT
BEGIN:VEVENT
DTSTART;TZID=America/New_York:20210626T140000
DTEND;TZID=America/New_York:20210627T140000
DTSTAMP:20260421T220307
CREATED:20190522T233044Z
LAST-MODIFIED:20210521T233044Z
UID:21622-1624716000-1624802400@www.sparc-club.org
SUMMARY:2021 Field Day
DESCRIPTION:Related Images:
URL:https://www.sparc-club.org/event/2019-field-day/
LOCATION:Clearwater Fire Training Center\, 1716 N Belcher Rd\, Clearwater\, FL\, 33765\, United States
END:VEVENT
BEGIN:VEVENT
DTSTART;TZID=America/New_York:20210626T080000
DTEND;TZID=America/New_York:20210626T140000
DTSTAMP:20260421T220307
CREATED:20190522T233127Z
LAST-MODIFIED:20210521T233127Z
UID:21624-1624694400-1624716000@www.sparc-club.org
SUMMARY:2021 Field Day Setup
DESCRIPTION:Related Images:
URL:https://www.sparc-club.org/event/2019-field-day-setup/
LOCATION:Clearwater Fire Training Center\, 1716 N Belcher Rd\, Clearwater\, FL\, 33765\, United States
END:VEVENT
BEGIN:VEVENT
DTSTART;TZID=America/New_York:20210615T183000
DTEND;TZID=America/New_York:20210615T183000
DTSTAMP:20260421T220307
CREATED:20210411T022240Z
LAST-MODIFIED:20210411T022240Z
UID:29290-1623781800-1623781800@www.sparc-club.org
SUMMARY:VE Testing
DESCRIPTION:Related Images:
URL:https://www.sparc-club.org/event/ve-testing-29/
LOCATION:Club Station\, 6699 90th Avenue N.\, Pinellas Park\, FL\, 33782\, United States
END:VEVENT
BEGIN:VEVENT
DTSTART;TZID=America/New_York:20210604T193000
DTEND;TZID=America/New_York:20210604T210000
DTSTAMP:20260421T220307
CREATED:20210411T022257Z
LAST-MODIFIED:20210411T022257Z
UID:29297-1622835000-1622840400@www.sparc-club.org
SUMMARY:SPARC Monthly Meeting
DESCRIPTION:Related Images:
URL:https://www.sparc-club.org/event/sparc-monthly-meeting-22/
LOCATION:Fifth Avenue Baptist Church\, 4901 5th Ave. N.\, St. Petersburg\, FL\, 33710\, United States
END:VEVENT
BEGIN:VEVENT
DTSTART;TZID=America/New_York:20210518T183000
DTEND;TZID=America/New_York:20210518T183000
DTSTAMP:20260421T220307
CREATED:20210411T022240Z
LAST-MODIFIED:20210411T022240Z
UID:29289-1621362600-1621362600@www.sparc-club.org
SUMMARY:VE Testing
DESCRIPTION:Related Images:
URL:https://www.sparc-club.org/event/ve-testing-28/
LOCATION:Club Station\, 6699 90th Avenue N.\, Pinellas Park\, FL\, 33782\, United States
END:VEVENT
BEGIN:VEVENT
DTSTART;TZID=America/New_York:20210507T193000
DTEND;TZID=America/New_York:20210507T210000
DTSTAMP:20260421T220307
CREATED:20210402T001759Z
LAST-MODIFIED:20210411T022242Z
UID:28381-1620415800-1620421200@www.sparc-club.org
SUMMARY:SPARC Monthly Meeting
DESCRIPTION:Related Images:
URL:https://www.sparc-club.org/event/sparc-monthly-meeting-21/
LOCATION:Fifth Avenue Baptist Church\, 4901 5th Ave. N.\, St. Petersburg\, FL\, 33710\, United States
END:VEVENT
BEGIN:VEVENT
DTSTART;TZID=America/New_York:20210420T183000
DTEND;TZID=America/New_York:20210420T183000
DTSTAMP:20260421T220307
CREATED:20210411T022240Z
LAST-MODIFIED:20210411T022240Z
UID:29288-1618943400-1618943400@www.sparc-club.org
SUMMARY:VE Testing
DESCRIPTION:Related Images:
URL:https://www.sparc-club.org/event/ve-testing-27/
LOCATION:Club Station\, 6699 90th Avenue N.\, Pinellas Park\, FL\, 33782\, United States
END:VEVENT
BEGIN:VEVENT
DTSTART;TZID=America/New_York:20210420T170000
DTEND;TZID=America/New_York:20210420T180000
DTSTAMP:20260421T220307
CREATED:20210411T020016Z
LAST-MODIFIED:20210411T020016Z
UID:29273-1618938000-1618941600@www.sparc-club.org
SUMMARY:SPARC Board Meeting
DESCRIPTION:Related Images:
URL:https://www.sparc-club.org/event/sparc-board-meeting/
LOCATION:Club Station\, 6699 90th Avenue N.\, Pinellas Park\, FL\, 33782\, United States
END:VEVENT
BEGIN:VEVENT
DTSTART;TZID=America/New_York:20210402T193000
DTEND;TZID=America/New_York:20210402T210000
DTSTAMP:20260421T220307
CREATED:20210402T001703Z
LAST-MODIFIED:20210402T001703Z
UID:28377-1617391800-1617397200@www.sparc-club.org
SUMMARY:SPARC Monthly Meeting
DESCRIPTION:Related Images:
URL:https://www.sparc-club.org/event/sparc-monthly-meeting-20/
LOCATION:Fifth Avenue Baptist Church\, 4901 5th Ave. N.\, St. Petersburg\, FL\, 33710\, United States
ORGANIZER;CN="St. Petersburg Amateur Radio Club":MAILTO:info@sparc-club.org
END:VEVENT
BEGIN:VEVENT
DTSTART;TZID=America/New_York:20201215T183000
DTEND;TZID=America/New_York:20201215T183000
DTSTAMP:20260421T220307
CREATED:20191006T173236Z
LAST-MODIFIED:20191006T173236Z
UID:22612-1608057000-1608057000@www.sparc-club.org
SUMMARY:VE Testing
DESCRIPTION:Related Images:
URL:https://www.sparc-club.org/event/ve-testing-26/
LOCATION:Club Station\, 6699 90th Avenue N.\, Pinellas Park\, FL\, 33782\, United States
END:VEVENT
BEGIN:VEVENT
DTSTART;TZID=America/New_York:20201204T193000
DTEND;TZID=America/New_York:20201204T210000
DTSTAMP:20260421T220307
CREATED:20191006T173237Z
LAST-MODIFIED:20191006T173237Z
UID:22626-1607110200-1607115600@www.sparc-club.org
SUMMARY:SPARC Monthly Meeting
DESCRIPTION:Related Images:
URL:https://www.sparc-club.org/event/sparc-monthly-meeting-19/
LOCATION:Fifth Avenue Baptist Church\, 4901 5th Ave. N.\, St. Petersburg\, FL\, 33710\, United States
END:VEVENT
BEGIN:VEVENT
DTSTART;TZID=America/New_York:20201117T183000
DTEND;TZID=America/New_York:20201117T183000
DTSTAMP:20260421T220307
CREATED:20191006T173236Z
LAST-MODIFIED:20191006T173236Z
UID:22611-1605637800-1605637800@www.sparc-club.org
SUMMARY:VE Testing
DESCRIPTION:Related Images:
URL:https://www.sparc-club.org/event/ve-testing-25/
LOCATION:Club Station\, 6699 90th Avenue N.\, Pinellas Park\, FL\, 33782\, United States
END:VEVENT
BEGIN:VEVENT
DTSTART;TZID=America/New_York:20201106T193000
DTEND;TZID=America/New_York:20201106T210000
DTSTAMP:20260421T220307
CREATED:20191006T173237Z
LAST-MODIFIED:20201006T002347Z
UID:22625-1604691000-1604696400@www.sparc-club.org
SUMMARY:SPARC Monthly Meeting
DESCRIPTION:Related Images:
URL:https://www.sparc-club.org/event/sparc-monthly-meeting-18/
LOCATION:via Zoom\, FL\, United States
END:VEVENT
BEGIN:VEVENT
DTSTART;TZID=America/New_York:20201020T183000
DTEND;TZID=America/New_York:20201020T183000
DTSTAMP:20260421T220307
CREATED:20191006T173235Z
LAST-MODIFIED:20191006T173235Z
UID:22610-1603218600-1603218600@www.sparc-club.org
SUMMARY:VE Testing
DESCRIPTION:Related Images:
URL:https://www.sparc-club.org/event/ve-testing-24/
LOCATION:Club Station\, 6699 90th Avenue N.\, Pinellas Park\, FL\, 33782\, United States
END:VEVENT
BEGIN:VEVENT
DTSTART;TZID=America/New_York:20201002T193000
DTEND;TZID=America/New_York:20201002T210000
DTSTAMP:20260421T220307
CREATED:20191006T173237Z
LAST-MODIFIED:20191006T173237Z
UID:22624-1601667000-1601672400@www.sparc-club.org
SUMMARY:SPARC Monthly Meeting
DESCRIPTION:Related Images:
URL:https://www.sparc-club.org/event/sparc-monthly-meeting-17/
LOCATION:Fifth Avenue Baptist Church\, 4901 5th Ave. N.\, St. Petersburg\, FL\, 33710\, United States
END:VEVENT
BEGIN:VEVENT
DTSTART;TZID=America/New_York:20200915T183000
DTEND;TZID=America/New_York:20200915T183000
DTSTAMP:20260421T220307
CREATED:20191006T173235Z
LAST-MODIFIED:20191006T173235Z
UID:22609-1600194600-1600194600@www.sparc-club.org
SUMMARY:VE Testing
DESCRIPTION:Related Images:
URL:https://www.sparc-club.org/event/ve-testing-23/
LOCATION:Club Station\, 6699 90th Avenue N.\, Pinellas Park\, FL\, 33782\, United States
END:VEVENT
BEGIN:VEVENT
DTSTART;TZID=America/New_York:20200904T193000
DTEND;TZID=America/New_York:20200904T210000
DTSTAMP:20260421T220307
CREATED:20191006T173237Z
LAST-MODIFIED:20191006T173237Z
UID:22623-1599247800-1599253200@www.sparc-club.org
SUMMARY:SPARC Monthly Meeting
DESCRIPTION:Related Images:
URL:https://www.sparc-club.org/event/sparc-monthly-meeting-16/
LOCATION:Fifth Avenue Baptist Church\, 4901 5th Ave. N.\, St. Petersburg\, FL\, 33710\, United States
END:VEVENT
BEGIN:VEVENT
DTSTART;TZID=America/New_York:20200818T183000
DTEND;TZID=America/New_York:20200818T183000
DTSTAMP:20260421T220307
CREATED:20191006T173235Z
LAST-MODIFIED:20191006T173235Z
UID:22608-1597775400-1597775400@www.sparc-club.org
SUMMARY:VE Testing
DESCRIPTION:Related Images:
URL:https://www.sparc-club.org/event/ve-testing-22/
LOCATION:Club Station\, 6699 90th Avenue N.\, Pinellas Park\, FL\, 33782\, United States
END:VEVENT
BEGIN:VEVENT
DTSTART;TZID=America/New_York:20200807T193000
DTEND;TZID=America/New_York:20200807T210000
DTSTAMP:20260421T220307
CREATED:20191006T173237Z
LAST-MODIFIED:20191006T173237Z
UID:22622-1596828600-1596834000@www.sparc-club.org
SUMMARY:SPARC Monthly Meeting
DESCRIPTION:Related Images:
URL:https://www.sparc-club.org/event/sparc-monthly-meeting-15/
LOCATION:Fifth Avenue Baptist Church\, 4901 5th Ave. N.\, St. Petersburg\, FL\, 33710\, United States
END:VEVENT
BEGIN:VEVENT
DTSTART;TZID=America/New_York:20200721T183000
DTEND;TZID=America/New_York:20200721T183000
DTSTAMP:20260421T220307
CREATED:20191006T173235Z
LAST-MODIFIED:20191006T173235Z
UID:22607-1595356200-1595356200@www.sparc-club.org
SUMMARY:VE Testing
DESCRIPTION:Related Images:
URL:https://www.sparc-club.org/event/ve-testing-21/
LOCATION:Club Station\, 6699 90th Avenue N.\, Pinellas Park\, FL\, 33782\, United States
END:VEVENT
BEGIN:VEVENT
DTSTART;TZID=America/New_York:20200703T193000
DTEND;TZID=America/New_York:20200703T210000
DTSTAMP:20260421T220307
CREATED:20191006T173237Z
LAST-MODIFIED:20191006T173237Z
UID:22621-1593804600-1593810000@www.sparc-club.org
SUMMARY:SPARC Monthly Meeting
DESCRIPTION:Related Images:
URL:https://www.sparc-club.org/event/sparc-monthly-meeting-14/
LOCATION:Fifth Avenue Baptist Church\, 4901 5th Ave. N.\, St. Petersburg\, FL\, 33710\, United States
END:VEVENT
BEGIN:VEVENT
DTSTART;TZID=America/New_York:20200605T193000
DTEND;TZID=America/New_York:20200605T210000
DTSTAMP:20260421T220307
CREATED:20191006T173237Z
LAST-MODIFIED:20200529T010744Z
UID:22620-1591385400-1591390800@www.sparc-club.org
SUMMARY:SPARC Monthly Meeting via Zoom
DESCRIPTION:Related Images:
URL:https://www.sparc-club.org/event/sparc-monthly-meeting-13/
LOCATION:via Zoom\, FL\, United States
END:VEVENT
BEGIN:VEVENT
DTSTART;TZID=America/New_York:20200603T190000
DTEND;TZID=America/New_York:20200603T200000
DTSTAMP:20260421T220307
CREATED:20200529T011024Z
LAST-MODIFIED:20200529T011024Z
UID:23755-1591210800-1591214400@www.sparc-club.org
SUMMARY:SPARC Meeting Setup Test
DESCRIPTION:This is a Zoom meeting to allow members and guests to test out their Zoom setup. Feel free to connect your camera is you have one and join the fun. Then come back on Friday June 5th at 7:30 for the regular meeting again on Zoom. \nRelated Images:
URL:https://www.sparc-club.org/event/sparc-meeting-setup-test/
LOCATION:via Zoom\, FL\, United States
END:VEVENT
BEGIN:VEVENT
DTSTART;TZID=America/New_York:20200501T193000
DTEND;TZID=America/New_York:20200501T210000
DTSTAMP:20260421T220307
CREATED:20191006T173237Z
LAST-MODIFIED:20200413T223843Z
UID:22619-1588361400-1588366800@www.sparc-club.org
SUMMARY:SPARC Monthly Meeting (virtual)
DESCRIPTION:Related Images:
URL:https://www.sparc-club.org/event/sparc-monthly-meeting-12/
LOCATION:via Zoom\, FL\, United States
END:VEVENT
BEGIN:VEVENT
DTSTART;TZID=America/New_York:20200403T193000
DTEND;TZID=America/New_York:20200403T210000
DTSTAMP:20260421T220307
CREATED:20191006T173237Z
LAST-MODIFIED:20200331T042438Z
UID:22618-1585942200-1585947600@www.sparc-club.org
SUMMARY:SPARC Monthly Meeting (Repeater Only)
DESCRIPTION:Related Images:
URL:https://www.sparc-club.org/event/sparc-monthly-meeting-11/
LOCATION:via Zoom\, FL\, United States
END:VEVENT
BEGIN:VEVENT
DTSTART;TZID=America/New_York:20200314T080000
DTEND;TZID=America/New_York:20200314T190000
DTSTAMP:20260421T220307
CREATED:20200117T145612Z
LAST-MODIFIED:20200127T155255Z
UID:23013-1584172800-1584212400@www.sparc-club.org
SUMMARY:Radio Clubs in the Park
DESCRIPTION:On Saturday March 14th\, 2020\, SPARC is hosting a gathering for club members (and our north county friends) to setup in Lake Seminole Park\, Shelter number 6. This is an informal gathering so plan on bringing your own stuff to this one. Below are the details: \n \n[Picture from Google Maps] Shelter #6 is close to the parking lot and rest rooms with lots of room for antennas and a nice view of the lake to boot. \nRelated Images:
URL:https://www.sparc-club.org/event/radio-clubs-in-the-park/
LOCATION:Lake Seminole Park\, 10015 Park Boulevard\, Seminole\, 33777-3810\, United States
ATTACH;FMTTYPE=image/png:https://www.sparc-club.org/wp-content/uploads/2020/01/Screen-Shot-2020-01-16-at-11.10.03-PM.png
ORGANIZER;CN="St. Petersburg Amateur Radio Club":MAILTO:info@sparc-club.org
END:VEVENT
BEGIN:VEVENT
DTSTART;TZID=America/New_York:20200306T193000
DTEND;TZID=America/New_York:20200306T210000
DTSTAMP:20260421T220307
CREATED:20191006T173236Z
LAST-MODIFIED:20191006T173236Z
UID:22617-1583523000-1583528400@www.sparc-club.org
SUMMARY:SPARC Monthly Meeting
DESCRIPTION:Related Images:
URL:https://www.sparc-club.org/event/sparc-monthly-meeting-10/
LOCATION:Fifth Avenue Baptist Church\, 4901 5th Ave. N.\, St. Petersburg\, FL\, 33710\, United States
END:VEVENT
END:VCALENDAR