BEGIN:VCALENDAR
VERSION:2.0
PRODID:-//SPARC - ECPv6.15.20//NONSGML v1.0//EN
CALSCALE:GREGORIAN
METHOD:PUBLISH
X-ORIGINAL-URL:https://www.sparc-club.org
X-WR-CALDESC:Events for SPARC
REFRESH-INTERVAL;VALUE=DURATION:PT1H
X-Robots-Tag:noindex
X-PUBLISHED-TTL:PT1H
BEGIN:VTIMEZONE
TZID:America/New_York
BEGIN:DAYLIGHT
TZOFFSETFROM:-0500
TZOFFSETTO:-0400
TZNAME:EDT
DTSTART:20200308T070000
END:DAYLIGHT
BEGIN:STANDARD
TZOFFSETFROM:-0400
TZOFFSETTO:-0500
TZNAME:EST
DTSTART:20201101T060000
END:STANDARD
BEGIN:DAYLIGHT
TZOFFSETFROM:-0500
TZOFFSETTO:-0400
TZNAME:EDT
DTSTART:20210314T070000
END:DAYLIGHT
BEGIN:STANDARD
TZOFFSETFROM:-0400
TZOFFSETTO:-0500
TZNAME:EST
DTSTART:20211107T060000
END:STANDARD
BEGIN:DAYLIGHT
TZOFFSETFROM:-0500
TZOFFSETTO:-0400
TZNAME:EDT
DTSTART:20220313T070000
END:DAYLIGHT
BEGIN:STANDARD
TZOFFSETFROM:-0400
TZOFFSETTO:-0500
TZNAME:EST
DTSTART:20221106T060000
END:STANDARD
BEGIN:DAYLIGHT
TZOFFSETFROM:-0500
TZOFFSETTO:-0400
TZNAME:EDT
DTSTART:20230312T070000
END:DAYLIGHT
BEGIN:STANDARD
TZOFFSETFROM:-0400
TZOFFSETTO:-0500
TZNAME:EST
DTSTART:20231105T060000
END:STANDARD
END:VTIMEZONE
BEGIN:VEVENT
DTSTART;TZID=America/New_York:20221119T160000
DTEND;TZID=America/New_York:20221120T220000
DTSTAMP:20260421T165234
CREATED:20221011T020508Z
LAST-MODIFIED:20221011T020508Z
UID:35095-1668873600-1668981600@www.sparc-club.org
SUMMARY:SPARC Operating Event - ARRL Sweepstakes SSB
DESCRIPTION:Related Images:
URL:https://www.sparc-club.org/event/sparc-operating-event-arrl-sweepstakes-ssb/
LOCATION:Club Station\, 6699 90th Avenue N.\, Pinellas Park\, FL\, 33782\, United States
CATEGORIES:Contests
ORGANIZER;CN="St. Petersburg Amateur Radio Club":MAILTO:info@sparc-club.org
END:VEVENT
BEGIN:VEVENT
DTSTART;TZID=America/New_York:20221112T080000
DTEND;TZID=America/New_York:20221112T120000
DTSTAMP:20260421T165234
CREATED:20221011T020805Z
LAST-MODIFIED:20221011T020805Z
UID:35097-1668240000-1668254400@www.sparc-club.org
SUMMARY:SPARCFest 2022
DESCRIPTION:Related Images:
URL:https://www.sparc-club.org/event/sparcfest-2022/
LOCATION:Freedom Lake Park\, 9990 46th St.\, Pinellas Park\, FL\, United States
ORGANIZER;CN="St. Petersburg Amateur Radio Club":MAILTO:info@sparc-club.org
END:VEVENT
BEGIN:VEVENT
DTSTART;TZID=America/New_York:20221104T193000
DTEND;TZID=America/New_York:20221104T210000
DTSTAMP:20260421T165234
CREATED:20221011T021032Z
LAST-MODIFIED:20221011T021119Z
UID:35099-1667590200-1667595600@www.sparc-club.org
SUMMARY:SPARC Monthly Meeting
DESCRIPTION:Related Images:
URL:https://www.sparc-club.org/event/sparc-monthly-meeting-nov-2022/
LOCATION:Club Station\, 6699 90th Avenue N.\, Pinellas Park\, FL\, 33782\, United States
CATEGORIES:Meetings
ORGANIZER;CN="St. Petersburg Amateur Radio Club":MAILTO:info@sparc-club.org
END:VEVENT
BEGIN:VEVENT
DTSTART;TZID=America/New_York:20220206T140000
DTEND;TZID=America/New_York:20220206T160000
DTSTAMP:20260421T165234
CREATED:20220102T221532Z
LAST-MODIFIED:20220102T221532Z
UID:32846-1644156000-1644163200@www.sparc-club.org
SUMMARY:SPARC Holiday Party
DESCRIPTION:Related Images:
URL:https://www.sparc-club.org/event/sparc-holiday-party/
LOCATION:Kristina’s Cafe\, 3590 34th St. N\, St Petersburg\, FL\, 33713\, United States
ORGANIZER;CN="St. Petersburg Amateur Radio Club":MAILTO:info@sparc-club.org
END:VEVENT
BEGIN:VEVENT
DTSTART;TZID=America/New_York:20220122T130000
DTEND;TZID=America/New_York:20220123T130000
DTSTAMP:20260421T165234
CREATED:20210411T022312Z
LAST-MODIFIED:20211020T174609Z
UID:29304-1642856400-1642942800@www.sparc-club.org
SUMMARY:Winter Field Day
DESCRIPTION:Related Images:
URL:https://www.sparc-club.org/event/winter-field-day-3/
LOCATION:Clearwater Fire Training Center\, 1716 N Belcher Rd\, Clearwater\, FL\, 33765\, United States
END:VEVENT
BEGIN:VEVENT
DTSTART;TZID=America/New_York:20220122T080000
DTEND;TZID=America/New_York:20220122T130000
DTSTAMP:20260421T165234
CREATED:20210411T022312Z
LAST-MODIFIED:20211020T175018Z
UID:29305-1642838400-1642856400@www.sparc-club.org
SUMMARY:Winter Field Day Setup
DESCRIPTION:Related Images:
URL:https://www.sparc-club.org/event/winter-field-day-setup-3/
LOCATION:Clearwater Fire Training Center\, 1716 N Belcher Rd\, Clearwater\, FL\, 33765\, United States
END:VEVENT
BEGIN:VEVENT
DTSTART;TZID=America/New_York:20211221T183000
DTEND;TZID=America/New_York:20211221T183000
DTSTAMP:20260421T165234
CREATED:20210411T022242Z
LAST-MODIFIED:20210411T022242Z
UID:29296-1640111400-1640111400@www.sparc-club.org
SUMMARY:VE Testing
DESCRIPTION:Related Images:
URL:https://www.sparc-club.org/event/ve-testing-35/
LOCATION:Club Station\, 6699 90th Avenue N.\, Pinellas Park\, FL\, 33782\, United States
END:VEVENT
BEGIN:VEVENT
DTSTART;TZID=America/New_York:20211210T080000
DTEND;TZID=America/New_York:20211211T170000
DTSTAMP:20260421T165234
CREATED:20210411T022327Z
LAST-MODIFIED:20210411T022327Z
UID:29307-1639123200-1639242000@www.sparc-club.org
SUMMARY:Tampa Bay Hamfest
DESCRIPTION:Related Images:
URL:https://www.sparc-club.org/event/tampa-bay-hamfest-4/
LOCATION:Strawberry Festival Grounds\, 303 N Lemon St\, Plant City\, FL\, 33563\, United States
END:VEVENT
BEGIN:VEVENT
DTSTART;TZID=America/New_York:20211203T193000
DTEND;TZID=America/New_York:20211203T210000
DTSTAMP:20260421T165234
CREATED:20210411T022312Z
LAST-MODIFIED:20210411T022312Z
UID:29303-1638559800-1638565200@www.sparc-club.org
SUMMARY:SPARC Monthly Meeting
DESCRIPTION:Related Images:
URL:https://www.sparc-club.org/event/sparc-monthly-meeting-28/
LOCATION:Fifth Avenue Baptist Church\, 4901 5th Ave. N.\, St. Petersburg\, FL\, 33710\, United States
END:VEVENT
BEGIN:VEVENT
DTSTART;TZID=America/New_York:20211116T183000
DTEND;TZID=America/New_York:20211116T183000
DTSTAMP:20260421T165234
CREATED:20210411T022242Z
LAST-MODIFIED:20210411T022242Z
UID:29295-1637087400-1637087400@www.sparc-club.org
SUMMARY:VE Testing
DESCRIPTION:Related Images:
URL:https://www.sparc-club.org/event/ve-testing-34/
LOCATION:Club Station\, 6699 90th Avenue N.\, Pinellas Park\, FL\, 33782\, United States
END:VEVENT
BEGIN:VEVENT
DTSTART;TZID=America/New_York:20211113T080000
DTEND;TZID=America/New_York:20211113T120000
DTSTAMP:20260421T165234
CREATED:20210411T022313Z
LAST-MODIFIED:20210411T022313Z
UID:29306-1636790400-1636804800@www.sparc-club.org
SUMMARY:SPARCFest
DESCRIPTION:Related Images:
URL:https://www.sparc-club.org/event/sparcfest-4/
LOCATION:Freedom Lake Park\, 9990 46th St.\, Pinellas Park\, FL\, United States
END:VEVENT
BEGIN:VEVENT
DTSTART;TZID=America/New_York:20211105T193000
DTEND;TZID=America/New_York:20211105T210000
DTSTAMP:20260421T165234
CREATED:20210411T022312Z
LAST-MODIFIED:20210411T022312Z
UID:29302-1636140600-1636146000@www.sparc-club.org
SUMMARY:SPARC Monthly Meeting
DESCRIPTION:Related Images:
URL:https://www.sparc-club.org/event/sparc-monthly-meeting-27/
LOCATION:Fifth Avenue Baptist Church\, 4901 5th Ave. N.\, St. Petersburg\, FL\, 33710\, United States
END:VEVENT
BEGIN:VEVENT
DTSTART;TZID=America/New_York:20211019T183000
DTEND;TZID=America/New_York:20211019T183000
DTSTAMP:20260421T165234
CREATED:20210411T022242Z
LAST-MODIFIED:20210411T022242Z
UID:29294-1634668200-1634668200@www.sparc-club.org
SUMMARY:VE Testing
DESCRIPTION:Related Images:
URL:https://www.sparc-club.org/event/ve-testing-33/
LOCATION:Club Station\, 6699 90th Avenue N.\, Pinellas Park\, FL\, 33782\, United States
END:VEVENT
BEGIN:VEVENT
DTSTART;TZID=America/New_York:20211009T070000
DTEND;TZID=America/New_York:20211009T170000
DTSTAMP:20260421T165234
CREATED:20210915T153034Z
LAST-MODIFIED:20210915T153327Z
UID:32001-1633762800-1633798800@www.sparc-club.org
SUMMARY:Parks on the Air
DESCRIPTION:Related Images:
URL:https://www.sparc-club.org/event/park-on-the-air/
LOCATION:Sawgrass Lake Park\, 7400 25th Street N\, St. Petersburg\, FL\, 33702\, United States
END:VEVENT
BEGIN:VEVENT
DTSTART;TZID=America/New_York:20211001T193000
DTEND;TZID=America/New_York:20211001T210000
DTSTAMP:20260421T165234
CREATED:20210411T022258Z
LAST-MODIFIED:20210411T022258Z
UID:29301-1633116600-1633122000@www.sparc-club.org
SUMMARY:SPARC Monthly Meeting
DESCRIPTION:Related Images:
URL:https://www.sparc-club.org/event/sparc-monthly-meeting-26/
LOCATION:Fifth Avenue Baptist Church\, 4901 5th Ave. N.\, St. Petersburg\, FL\, 33710\, United States
END:VEVENT
BEGIN:VEVENT
DTSTART;TZID=America/New_York:20210921T183000
DTEND;TZID=America/New_York:20210921T183000
DTSTAMP:20260421T165234
CREATED:20210411T022242Z
LAST-MODIFIED:20210411T022242Z
UID:29293-1632249000-1632249000@www.sparc-club.org
SUMMARY:VE Testing
DESCRIPTION:Related Images:
URL:https://www.sparc-club.org/event/ve-testing-32/
LOCATION:Club Station\, 6699 90th Avenue N.\, Pinellas Park\, FL\, 33782\, United States
END:VEVENT
BEGIN:VEVENT
DTSTART;TZID=America/New_York:20210903T193000
DTEND;TZID=America/New_York:20210903T210000
DTSTAMP:20260421T165234
CREATED:20210411T022257Z
LAST-MODIFIED:20210411T022257Z
UID:29300-1630697400-1630702800@www.sparc-club.org
SUMMARY:SPARC Monthly Meeting
DESCRIPTION:Related Images:
URL:https://www.sparc-club.org/event/sparc-monthly-meeting-25/
LOCATION:Fifth Avenue Baptist Church\, 4901 5th Ave. N.\, St. Petersburg\, FL\, 33710\, United States
END:VEVENT
BEGIN:VEVENT
DTSTART;TZID=America/New_York:20210817T183000
DTEND;TZID=America/New_York:20210817T183000
DTSTAMP:20260421T165234
CREATED:20210411T022241Z
LAST-MODIFIED:20210411T022241Z
UID:29292-1629225000-1629225000@www.sparc-club.org
SUMMARY:VE Testing
DESCRIPTION:Related Images:
URL:https://www.sparc-club.org/event/ve-testing-31/
LOCATION:Club Station\, 6699 90th Avenue N.\, Pinellas Park\, FL\, 33782\, United States
END:VEVENT
BEGIN:VEVENT
DTSTART;TZID=America/New_York:20210806T193000
DTEND;TZID=America/New_York:20210806T210000
DTSTAMP:20260421T165234
CREATED:20210411T022257Z
LAST-MODIFIED:20210411T022257Z
UID:29299-1628278200-1628283600@www.sparc-club.org
SUMMARY:SPARC Monthly Meeting
DESCRIPTION:Related Images:
URL:https://www.sparc-club.org/event/sparc-monthly-meeting-24/
LOCATION:Fifth Avenue Baptist Church\, 4901 5th Ave. N.\, St. Petersburg\, FL\, 33710\, United States
END:VEVENT
BEGIN:VEVENT
DTSTART;TZID=America/New_York:20210720T183000
DTEND;TZID=America/New_York:20210720T183000
DTSTAMP:20260421T165234
CREATED:20210411T022240Z
LAST-MODIFIED:20210411T022240Z
UID:29291-1626805800-1626805800@www.sparc-club.org
SUMMARY:VE Testing
DESCRIPTION:Related Images:
URL:https://www.sparc-club.org/event/ve-testing-30/
LOCATION:Club Station\, 6699 90th Avenue N.\, Pinellas Park\, FL\, 33782\, United States
END:VEVENT
BEGIN:VEVENT
DTSTART;TZID=America/New_York:20210702T193000
DTEND;TZID=America/New_York:20210702T210000
DTSTAMP:20260421T165234
CREATED:20210411T022257Z
LAST-MODIFIED:20210411T022257Z
UID:29298-1625254200-1625259600@www.sparc-club.org
SUMMARY:SPARC Monthly Meeting
DESCRIPTION:Related Images:
URL:https://www.sparc-club.org/event/sparc-monthly-meeting-23/
LOCATION:Fifth Avenue Baptist Church\, 4901 5th Ave. N.\, St. Petersburg\, FL\, 33710\, United States
END:VEVENT
BEGIN:VEVENT
DTSTART;TZID=America/New_York:20210626T140000
DTEND;TZID=America/New_York:20210627T140000
DTSTAMP:20260421T165234
CREATED:20190522T233044Z
LAST-MODIFIED:20210521T233044Z
UID:21622-1624716000-1624802400@www.sparc-club.org
SUMMARY:2021 Field Day
DESCRIPTION:Related Images:
URL:https://www.sparc-club.org/event/2019-field-day/
LOCATION:Clearwater Fire Training Center\, 1716 N Belcher Rd\, Clearwater\, FL\, 33765\, United States
END:VEVENT
BEGIN:VEVENT
DTSTART;TZID=America/New_York:20210626T080000
DTEND;TZID=America/New_York:20210626T140000
DTSTAMP:20260421T165234
CREATED:20190522T233127Z
LAST-MODIFIED:20210521T233127Z
UID:21624-1624694400-1624716000@www.sparc-club.org
SUMMARY:2021 Field Day Setup
DESCRIPTION:Related Images:
URL:https://www.sparc-club.org/event/2019-field-day-setup/
LOCATION:Clearwater Fire Training Center\, 1716 N Belcher Rd\, Clearwater\, FL\, 33765\, United States
END:VEVENT
BEGIN:VEVENT
DTSTART;TZID=America/New_York:20210615T183000
DTEND;TZID=America/New_York:20210615T183000
DTSTAMP:20260421T165234
CREATED:20210411T022240Z
LAST-MODIFIED:20210411T022240Z
UID:29290-1623781800-1623781800@www.sparc-club.org
SUMMARY:VE Testing
DESCRIPTION:Related Images:
URL:https://www.sparc-club.org/event/ve-testing-29/
LOCATION:Club Station\, 6699 90th Avenue N.\, Pinellas Park\, FL\, 33782\, United States
END:VEVENT
BEGIN:VEVENT
DTSTART;TZID=America/New_York:20210604T193000
DTEND;TZID=America/New_York:20210604T210000
DTSTAMP:20260421T165234
CREATED:20210411T022257Z
LAST-MODIFIED:20210411T022257Z
UID:29297-1622835000-1622840400@www.sparc-club.org
SUMMARY:SPARC Monthly Meeting
DESCRIPTION:Related Images:
URL:https://www.sparc-club.org/event/sparc-monthly-meeting-22/
LOCATION:Fifth Avenue Baptist Church\, 4901 5th Ave. N.\, St. Petersburg\, FL\, 33710\, United States
END:VEVENT
BEGIN:VEVENT
DTSTART;TZID=America/New_York:20210518T183000
DTEND;TZID=America/New_York:20210518T183000
DTSTAMP:20260421T165234
CREATED:20210411T022240Z
LAST-MODIFIED:20210411T022240Z
UID:29289-1621362600-1621362600@www.sparc-club.org
SUMMARY:VE Testing
DESCRIPTION:Related Images:
URL:https://www.sparc-club.org/event/ve-testing-28/
LOCATION:Club Station\, 6699 90th Avenue N.\, Pinellas Park\, FL\, 33782\, United States
END:VEVENT
BEGIN:VEVENT
DTSTART;TZID=America/New_York:20210507T193000
DTEND;TZID=America/New_York:20210507T210000
DTSTAMP:20260421T165234
CREATED:20210402T001759Z
LAST-MODIFIED:20210411T022242Z
UID:28381-1620415800-1620421200@www.sparc-club.org
SUMMARY:SPARC Monthly Meeting
DESCRIPTION:Related Images:
URL:https://www.sparc-club.org/event/sparc-monthly-meeting-21/
LOCATION:Fifth Avenue Baptist Church\, 4901 5th Ave. N.\, St. Petersburg\, FL\, 33710\, United States
END:VEVENT
BEGIN:VEVENT
DTSTART;TZID=America/New_York:20210420T183000
DTEND;TZID=America/New_York:20210420T183000
DTSTAMP:20260421T165234
CREATED:20210411T022240Z
LAST-MODIFIED:20210411T022240Z
UID:29288-1618943400-1618943400@www.sparc-club.org
SUMMARY:VE Testing
DESCRIPTION:Related Images:
URL:https://www.sparc-club.org/event/ve-testing-27/
LOCATION:Club Station\, 6699 90th Avenue N.\, Pinellas Park\, FL\, 33782\, United States
END:VEVENT
BEGIN:VEVENT
DTSTART;TZID=America/New_York:20210420T170000
DTEND;TZID=America/New_York:20210420T180000
DTSTAMP:20260421T165234
CREATED:20210411T020016Z
LAST-MODIFIED:20210411T020016Z
UID:29273-1618938000-1618941600@www.sparc-club.org
SUMMARY:SPARC Board Meeting
DESCRIPTION:Related Images:
URL:https://www.sparc-club.org/event/sparc-board-meeting/
LOCATION:Club Station\, 6699 90th Avenue N.\, Pinellas Park\, FL\, 33782\, United States
END:VEVENT
BEGIN:VEVENT
DTSTART;TZID=America/New_York:20210402T193000
DTEND;TZID=America/New_York:20210402T210000
DTSTAMP:20260421T165234
CREATED:20210402T001703Z
LAST-MODIFIED:20210402T001703Z
UID:28377-1617391800-1617397200@www.sparc-club.org
SUMMARY:SPARC Monthly Meeting
DESCRIPTION:Related Images:
URL:https://www.sparc-club.org/event/sparc-monthly-meeting-20/
LOCATION:Fifth Avenue Baptist Church\, 4901 5th Ave. N.\, St. Petersburg\, FL\, 33710\, United States
ORGANIZER;CN="St. Petersburg Amateur Radio Club":MAILTO:info@sparc-club.org
END:VEVENT
END:VCALENDAR