BEGIN:VCALENDAR
VERSION:2.0
PRODID:-//SPARC - ECPv6.15.20//NONSGML v1.0//EN
CALSCALE:GREGORIAN
METHOD:PUBLISH
X-ORIGINAL-URL:https://www.sparc-club.org
X-WR-CALDESC:Events for SPARC
REFRESH-INTERVAL;VALUE=DURATION:PT1H
X-Robots-Tag:noindex
X-PUBLISHED-TTL:PT1H
BEGIN:VTIMEZONE
TZID:America/New_York
BEGIN:DAYLIGHT
TZOFFSETFROM:-0500
TZOFFSETTO:-0400
TZNAME:EDT
DTSTART:20170312T070000
END:DAYLIGHT
BEGIN:STANDARD
TZOFFSETFROM:-0400
TZOFFSETTO:-0500
TZNAME:EST
DTSTART:20171105T060000
END:STANDARD
BEGIN:DAYLIGHT
TZOFFSETFROM:-0500
TZOFFSETTO:-0400
TZNAME:EDT
DTSTART:20180311T070000
END:DAYLIGHT
BEGIN:STANDARD
TZOFFSETFROM:-0400
TZOFFSETTO:-0500
TZNAME:EST
DTSTART:20181104T060000
END:STANDARD
BEGIN:DAYLIGHT
TZOFFSETFROM:-0500
TZOFFSETTO:-0400
TZNAME:EDT
DTSTART:20190310T070000
END:DAYLIGHT
BEGIN:STANDARD
TZOFFSETFROM:-0400
TZOFFSETTO:-0500
TZNAME:EST
DTSTART:20191103T060000
END:STANDARD
BEGIN:DAYLIGHT
TZOFFSETFROM:-0500
TZOFFSETTO:-0400
TZNAME:EDT
DTSTART:20200308T070000
END:DAYLIGHT
BEGIN:STANDARD
TZOFFSETFROM:-0400
TZOFFSETTO:-0500
TZNAME:EST
DTSTART:20201101T060000
END:STANDARD
END:VTIMEZONE
BEGIN:VEVENT
DTSTART;TZID=America/New_York:20190329T200000
DTEND;TZID=America/New_York:20190331T200000
DTSTAMP:20260421T064729
CREATED:20190301T154146Z
LAST-MODIFIED:20190301T154146Z
UID:21209-1553889600-1554062400@www.sparc-club.org
SUMMARY:Contest: CQ WPX SSB 2019
DESCRIPTION:The CQ WPX SSB contest is a great contest for people that liked the fun of contesting during Field Day. This is a 48 hour contest with exciting runs where we call CQ most of the time. If you have ever wondered what it was like on the other side of the pile-up\, this is the contest to find out. \nWe will use callsign NY4I which is a multiplier. That means other stations want to work us. Last year\, my first hour run was 200 stations per hour. It is hard to describe the adrenaline rush one feels when working stations that fast. We will start at 8:00 PM on Friday at the club station and go all through the weekend until Sunday night at 8:00 PM. We obviously need operators to do this level of contest. SPARC is inviting members of other clubs as well since we had so many people involved in our joint Field Day that liked working phone contests. \nRelated Images:
URL:https://www.sparc-club.org/event/contest-cq-wpx-ssb-2019/
LOCATION:Club Station\, 6699 90th Avenue N.\, Pinellas Park\, FL\, 33782\, United States
CATEGORIES:Contests
ORGANIZER;CN="St. Petersburg Amateur Radio Club":MAILTO:info@sparc-club.org
END:VEVENT
BEGIN:VEVENT
DTSTART;TZID=America/New_York:20190126T140000
DTEND;TZID=America/New_York:20190127T140000
DTSTAMP:20260421T064729
CREATED:20181104T180651Z
LAST-MODIFIED:20190119T150125Z
UID:20729-1548511200-1548597600@www.sparc-club.org
SUMMARY:Winter Field Day
DESCRIPTION:Related Images:
URL:https://www.sparc-club.org/event/winter-field-day/
LOCATION:Clearwater Fire Training Center\, 1716 N Belcher Rd\, Clearwater\, FL\, 33765\, United States
CATEGORIES:Contests
END:VEVENT
BEGIN:VEVENT
DTSTART;TZID=America/New_York:20190126T080000
DTEND;TZID=America/New_York:20190126T140000
DTSTAMP:20260421T064729
CREATED:20181104T180651Z
LAST-MODIFIED:20190119T150056Z
UID:20730-1548489600-1548511200@www.sparc-club.org
SUMMARY:Winter Field Day Setup
DESCRIPTION:Related Images:
URL:https://www.sparc-club.org/event/winter-field-day-setup/
LOCATION:Clearwater Fire Training Center\, 1716 N Belcher Rd\, Clearwater\, FL\, 33765\, United States
CATEGORIES:Contests
END:VEVENT
BEGIN:VEVENT
DTSTART;TZID=America/New_York:20190105T130000
DTEND;TZID=America/New_York:20190106T190000
DTSTAMP:20260421T064729
CREATED:20181126T201406Z
LAST-MODIFIED:20181126T201406Z
UID:20845-1546693200-1546801200@www.sparc-club.org
SUMMARY:ARRL RTTY Roundup Contest
DESCRIPTION:The first RTTY contest in 2019 from W4TA is the ARRL RTTY Roundup which starts Saturday\, January 5th at 1800 UTC or 1:00 PM local. We will also welcome any other club member who would like to try their hand in a digital contest. \nThis is a 30 hour contest in which we can operate 24 hours.  This means we will be working Saturday and Sunday.  Both of our stations will be active\, so we need lots of bodies to fill the operators chairs. If you would like to join the action let me know ASAP as first responders get the choice spots. Need to know the day or days and times of availability. \nSPARC has entered this contest many times and done very well.  Come on out and join the crew. \n73 Ron KP2N\n“RYRYRYRY” \nRelated Images:
URL:https://www.sparc-club.org/event/arrl-rtty-roundup-contest/
LOCATION:Club Station\, 6699 90th Avenue N.\, Pinellas Park\, FL\, 33782\, United States
CATEGORIES:Contests
ORGANIZER;CN="St. Petersburg Amateur Radio Club":MAILTO:info@sparc-club.org
END:VEVENT
BEGIN:VEVENT
DTSTART;TZID=America/New_York:20181117T160000
DTEND;TZID=America/New_York:20181118T220000
DTSTAMP:20260421T064729
CREATED:20181104T170459Z
LAST-MODIFIED:20181106T053621Z
UID:20698-1542470400-1542578400@www.sparc-club.org
SUMMARY:ARRL Sweepstakes SSB Contest
DESCRIPTION:ARRL Sweepstakes SSB Contest (November 17-18\, 2018)\n\nDates: Saturday\, November 17th @ 4:00 PM EST through Sunday November 18 @ 10:00 PM (Times will vary though)\nContest: ARRL Sweepstakes SSB\nGoals: To work as many other stations in both the US\, train operators and have fun.\nNotes: This is a challenging contest due to a longer exchange than the standard 599. Our goal is generally to obtain a clean sweep where we work at least one station from every ARRL section. We also have the ability to use 160m in this contest so that may come in handy for the close in states like South Carolina. This is also the first contest in the new shack location and with the new Elecraft KPA-1500.\nRESULTS:\n\nRelated Images:
URL:https://www.sparc-club.org/event/contest-arrl-sweepstakes-ssb/
LOCATION:Club Station\, 6699 90th Avenue N.\, Pinellas Park\, FL\, 33782\, United States
CATEGORIES:Contests
ORGANIZER;CN="St. Petersburg Amateur Radio Club":MAILTO:info@sparc-club.org
END:VEVENT
END:VCALENDAR